BEGIN:VCALENDAR
VERSION:2.0
PRODID:-//PYVOBJECT//NONSGML Version 1//EN
BEGIN:VEVENT
UID:21397:2209
DTSTART:20140408T000000
DTEND:20140516T000000
DESCRIPTION:
DTSTAMP:20260424T054046Z
SUMMARY:Sommerreifen Aktion
END:VEVENT
END:VCALENDAR
